BEGIN:VCALENDAR
VERSION:2.0
PRODID:-//Lee Harrington Mantra Music - ECPv5.8.1//NONSGML v1.0//EN
CALSCALE:GREGORIAN
METHOD:PUBLISH
X-WR-CALNAME:Lee Harrington Mantra Music
X-ORIGINAL-URL:https://leeharringtonmantramusic.com/wp
X-WR-CALDESC:Events for Lee Harrington Mantra Music
BEGIN:VTIMEZONE
TZID:America/New_York
BEGIN:DAYLIGHT
TZOFFSETFROM:-0500
TZOFFSETTO:-0400
TZNAME:EDT
DTSTART:20250309T070000
END:DAYLIGHT
BEGIN:STANDARD
TZOFFSETFROM:-0400
TZOFFSETTO:-0500
TZNAME:EST
DTSTART:20251102T060000
END:STANDARD
END:VTIMEZONE
BEGIN:VEVENT
DTSTART;TZID=America/New_York:20250510T190000
DTEND;TZID=America/New_York:20250510T203000
DTSTAMP:20260424T114951
CREATED:20250422T200955Z
LAST-MODIFIED:20250422T200955Z
UID:8335-1746903600-1746909000@leeharringtonmantramusic.com
SUMMARY:Kirtan at Tibet House NYC with Chandra Easton
DESCRIPTION:May | Weekend Workshop | Embodying Tara: The Divine Feminine To Power Your Compassion\, Intuition\, And Joy With Chandra Easton\, Bob Thurman\, Lee Mirabai Harrington\, And The THUS Vajra Yoga (™) Team
URL:https://leeharringtonmantramusic.com/wp/event/kirtan-at-tibet-house-nyc-with-chandra-easton/
LOCATION:Tibet House US\, 22 W. 15th Street\, New York\, NY\, 10011\, United States
ORGANIZER;CN="TIBET%20HOUSE%20US":MAILTO:melanie@thus.org
END:VEVENT
END:VCALENDAR